BEGIN:VCALENDAR
VERSION:2.0
PRODID:-//Sekolah Kasih Maitreya - ECPv6.15.18//NONSGML v1.0//EN
CALSCALE:GREGORIAN
METHOD:PUBLISH
X-WR-CALNAME:Sekolah Kasih Maitreya
X-ORIGINAL-URL:https://www.sekolahkasihmaitreya.sch.id
X-WR-CALDESC:Events for Sekolah Kasih Maitreya
REFRESH-INTERVAL;VALUE=DURATION:PT1H
X-Robots-Tag:noindex
X-PUBLISHED-TTL:PT1H
BEGIN:VTIMEZONE
TZID:Asia/Krasnoyarsk
BEGIN:STANDARD
TZOFFSETFROM:+0700
TZOFFSETTO:+0700
TZNAME:+07
DTSTART:20150101T000000
END:STANDARD
END:VTIMEZONE
BEGIN:VEVENT
DTSTART;TZID=Asia/Krasnoyarsk:20160522T080000
DTEND;TZID=Asia/Krasnoyarsk:20160522T230000
DTSTAMP:20260420T111900
CREATED:20160823T220736Z
LAST-MODIFIED:20160826T003007Z
UID:1025-1463904000-1463958000@www.sekolahkasihmaitreya.sch.id
SUMMARY:Waisak 2560
DESCRIPTION:Seluruh Staff dan Manajemen Yayasan Prajnamitra Maitreya Mengucapkan :\nSelamat Hari Raya Waisak 2560
URL:https://www.sekolahkasihmaitreya.sch.id/event/waisak-2560/
LOCATION:Sekolah Kasih Maitreya\, Jl. Teladan\, No. 6A\, Selatpanjang\, Riau\, 28753\, Indonesia
ATTACH;FMTTYPE=image/jpeg:https://www.sekolahkasihmaitreya.sch.id/wp-content/uploads/1/2016/08/DSC_0440.jpg
END:VEVENT
END:VCALENDAR